BEGIN:VCALENDAR
VERSION:2.0
PRODID:icalendar-ruby
CALSCALE:GREGORIAN
BEGIN:VEVENT
DTSTAMP:20210121T215212Z
UID:9680be60-d5cb-4f2e-9212-640e5570e9eb
DTSTART;VALUE=DATE:20191114
DESCRIPTION:Property ID# 464012\, Locatoin: 149 Johnsonville Raod\, Johnson
 ville\, Wellington 6037\, Time: 1:00PM
SUMMARY:Auction for 
END:VEVENT
END:VCALENDAR
