BEGIN:VCALENDAR
VERSION:2.0
PRODID:icalendar-ruby
CALSCALE:GREGORIAN
BEGIN:VEVENT
DTSTAMP:20210121T215052Z
UID:28fbae1e-b808-48f0-9a17-2d01e002a047
DTSTART;VALUE=DATE:20191121
DESCRIPTION:Property ID# 466179\, Locatoin: Level 1\, 77 Thorndon Quay\, Ti
 me: 12:00PM
SUMMARY:Auction for 
END:VEVENT
END:VCALENDAR
