BEGIN:VCALENDAR
VERSION:2.0
PRODID:icalendar-ruby
CALSCALE:GREGORIAN
BEGIN:VEVENT
DTSTAMP:20210121T215050Z
UID:b71dd3c5-f6c9-4ab1-96f8-0295f8227c30
DTSTART;VALUE=DATE:20191205
DESCRIPTION:Property ID# 467565\, Locatoin: Level 1\, 77 Thorndon Quay\, Ti
 me: 12:00PM
SUMMARY:Auction for 
END:VEVENT
END:VCALENDAR
