BEGIN:VCALENDAR
VERSION:2.0
PRODID:icalendar-ruby
CALSCALE:GREGORIAN
BEGIN:VEVENT
DTSTAMP:20210121T215209Z
UID:d91b2385-871d-4924-acb7-e19d4e960704
DTSTART;VALUE=DATE:20200205
DESCRIPTION:Property ID# 469904\, Locatoin: 149 Johnsonville Raod\, Johnson
 ville\, Wellington 6037\, Time: 1:00PM
SUMMARY:Auction for 
END:VEVENT
END:VCALENDAR
