BEGIN:VCALENDAR
VERSION:2.0
PRODID:icalendar-ruby
CALSCALE:GREGORIAN
BEGIN:VEVENT
DTSTAMP:20210121T215208Z
UID:2848bc6f-29d9-45df-ad80-76c8765d738e
DTSTART;VALUE=DATE:20200213
DESCRIPTION:Property ID# 470449\, Locatoin: 149 Johnsonville Raod\, Johnson
 ville\, Wellington 6037\, Time: 1:00PM
SUMMARY:Auction for 
END:VEVENT
END:VCALENDAR
