BEGIN:VCALENDAR
VERSION:2.0
PRODID:icalendar-ruby
CALSCALE:GREGORIAN
BEGIN:VEVENT
DTSTAMP:20210121T215111Z
UID:f275390e-e0f7-4310-9dc9-071c86a12b73
DTSTART;VALUE=DATE:20200227
DESCRIPTION:Property ID# 473221\, Time: 1:00PM
SUMMARY:Auction for 
END:VEVENT
END:VCALENDAR
