BEGIN:VCALENDAR
VERSION:2.0
PRODID:icalendar-ruby
CALSCALE:GREGORIAN
BEGIN:VEVENT
DTSTAMP:20210121T215038Z
UID:6ca18480-73de-4a02-9d2b-6f716270f502
DTSTART;VALUE=DATE:20200304
DESCRIPTION:Property ID# 473263\, Locatoin: First National Guardian\, Level
  1\, 20 Johnsonville Road\, Johnsonville\, Time: 1:00PM
SUMMARY:Auction for 
END:VEVENT
END:VCALENDAR
