BEGIN:VCALENDAR
VERSION:2.0
PRODID:icalendar-ruby
CALSCALE:GREGORIAN
BEGIN:VEVENT
DTSTAMP:20210121T215110Z
UID:161df01a-c935-49f1-869a-d215e3e1dad9
DTSTART;VALUE=DATE:20200305
DESCRIPTION:Property ID# 473630\, Locatoin: Ray White Johnsonville\, 20 Moo
 refield Road\, Time: 1:00PM
SUMMARY:Auction for 
END:VEVENT
END:VCALENDAR
