BEGIN:VCALENDAR
VERSION:2.0
PRODID:icalendar-ruby
CALSCALE:GREGORIAN
BEGIN:VEVENT
DTSTAMP:20210121T215200Z
UID:e34f5c9f-936d-4bae-9457-688ea7753c8e
DTSTART;VALUE=DATE:20200326
DESCRIPTION:Property ID# 474400\, Locatoin: 149 Johnsonville Raod\, Johnson
 ville\, Wellington 6037\, Time: 1:00PM
SUMMARY:Auction for 
END:VEVENT
END:VCALENDAR
