BEGIN:VCALENDAR
VERSION:2.0
PRODID:icalendar-ruby
CALSCALE:GREGORIAN
BEGIN:VEVENT
DTSTAMP:20210121T215202Z
UID:1a449fdf-df84-4942-ac62-e9e2791f5e92
DTSTART;VALUE=DATE:20200402
DESCRIPTION:Property ID# 475425\, Locatoin: 149 Johnsonville Raod\, Johnson
 ville\, Wellington 6037\, Time: 1:00PM
SUMMARY:Auction for 
END:VEVENT
END:VCALENDAR
