BEGIN:VCALENDAR
VERSION:2.0
PRODID:icalendar-ruby
CALSCALE:GREGORIAN
BEGIN:VEVENT
DTSTAMP:20210121T215048Z
UID:391825de-e991-4b1a-ad3b-f3b3326d5bf9
DTSTART;VALUE=DATE:20200701
DESCRIPTION:Property ID# 482233\, Locatoin: Level 1\, 77 Thorndon Quay\, Pi
 pitea\, Time: 12:00PM
SUMMARY:Auction for 
END:VEVENT
END:VCALENDAR
