BEGIN:VCALENDAR
VERSION:2.0
PRODID:icalendar-ruby
CALSCALE:GREGORIAN
BEGIN:VEVENT
DTSTAMP:20210121T215136Z
UID:d5ad33ec-15da-4272-89cc-ff2b015afb9f
DTSTART;VALUE=DATE:20200624
DESCRIPTION:Property ID# 482686\, Locatoin: 20 Moorefield Road\, Johnsonvil
 le \, Time: 12:00PM
SUMMARY:Auction for 
END:VEVENT
END:VCALENDAR
