BEGIN:VCALENDAR
VERSION:2.0
PRODID:icalendar-ruby
CALSCALE:GREGORIAN
BEGIN:VEVENT
DTSTAMP:20210121T215044Z
UID:47d3bb5f-7704-4801-ac26-2ceb2ac8e5f9
DTSTART;VALUE=DATE:20200716
DESCRIPTION:Property ID# 483648\, Locatoin: Lowe & Co Realty\, 8 Kent Terra
 ce\, Wellington \, Time: 1:00PM
SUMMARY:Auction for 
END:VEVENT
END:VCALENDAR
