BEGIN:VCALENDAR
VERSION:2.0
PRODID:icalendar-ruby
CALSCALE:GREGORIAN
BEGIN:VEVENT
DTSTAMP:20210121T215043Z
UID:5013205a-a827-481d-a53a-6593279f9657
DTSTART;VALUE=DATE:20200723
DESCRIPTION:Property ID# 484382\, Locatoin: Lowe & Co Realty\, 8 Kent Terra
 ce\, Wellington \, Time: 12:00PM
SUMMARY:Auction for 
END:VEVENT
END:VCALENDAR
