BEGIN:VCALENDAR
VERSION:2.0
PRODID:icalendar-ruby
CALSCALE:GREGORIAN
BEGIN:VEVENT
DTSTAMP:20210121T215133Z
UID:d1f9b449-e3e7-46f0-8063-ac94c972fac3
DTSTART;VALUE=DATE:20200805
DESCRIPTION:Property ID# 485561\, Time: 1:00PM
SUMMARY:Auction for 
END:VEVENT
END:VCALENDAR
