BEGIN:VCALENDAR
VERSION:2.0
PRODID:icalendar-ruby
CALSCALE:GREGORIAN
BEGIN:VEVENT
DTSTAMP:20210121T215224Z
UID:3752168d-2f49-40b4-b801-e037c97493b2
DTSTART;VALUE=DATE:20200812
DESCRIPTION:Property ID# 485745\, Locatoin: Ray White Upper Hutt office at 
 31 Main Street\, Upper Hutt\, Time: 12:00PM
SUMMARY:Auction for 
END:VEVENT
END:VCALENDAR
