BEGIN:VCALENDAR
VERSION:2.0
PRODID:icalendar-ruby
CALSCALE:GREGORIAN
BEGIN:VEVENT
DTSTAMP:20210121T215159Z
UID:5eebc65d-76ff-4228-adb9-98de3c299fe3
DTSTART;VALUE=DATE:20200813
DESCRIPTION:Property ID# 486256\, Locatoin: 149 Johnsonville Raod\, Johnson
 ville\, Wellington 6037\, Time: 1:00PM
SUMMARY:Auction for 
END:VEVENT
END:VCALENDAR
