BEGIN:VCALENDAR
VERSION:2.0
PRODID:icalendar-ruby
CALSCALE:GREGORIAN
BEGIN:VEVENT
DTSTAMP:20210121T215156Z
UID:f4e4c99b-e147-49eb-94c9-730dc8ee4e1f
DTSTART;VALUE=DATE:20200917
DESCRIPTION:Property ID# 486486\, Locatoin: 149 Johnsonville Raod\, Johnson
 ville\, Wellington 6037120\, Time: 1:00PM
SUMMARY:Auction for 
END:VEVENT
END:VCALENDAR
