BEGIN:VCALENDAR
VERSION:2.0
PRODID:icalendar-ruby
CALSCALE:GREGORIAN
BEGIN:VEVENT
DTSTAMP:20210121T215131Z
UID:428ffa0d-ace9-4744-915c-23a964f9211a
DTSTART;VALUE=DATE:20200819
DESCRIPTION:Property ID# 486519\, Time: 12:00PM
SUMMARY:Auction for 
END:VEVENT
END:VCALENDAR
