BEGIN:VCALENDAR
VERSION:2.0
PRODID:icalendar-ruby
CALSCALE:GREGORIAN
BEGIN:VEVENT
DTSTAMP:20210121T215223Z
UID:d0f162a4-0393-4dd7-8571-2310ff21c81b
DTSTART;VALUE=DATE:20200909
DESCRIPTION:Property ID# 488284\, Locatoin: 31 Main Street\, Upper Hutt\, T
 ime: 12:00PM
SUMMARY:Auction for 
END:VEVENT
END:VCALENDAR
