BEGIN:VCALENDAR
VERSION:2.0
PRODID:icalendar-ruby
CALSCALE:GREGORIAN
BEGIN:VEVENT
DTSTAMP:20210121T215108Z
UID:87e7dc9e-d7d5-438c-b4b0-3f3607636295
DTSTART;VALUE=DATE:20200924
DESCRIPTION:Property ID# 488396\, Locatoin: Ray White Johnsonville\, Time: 
 1:00PM
SUMMARY:Auction for 
END:VEVENT
END:VCALENDAR
