BEGIN:VCALENDAR
VERSION:2.0
PRODID:icalendar-ruby
CALSCALE:GREGORIAN
BEGIN:VEVENT
DTSTAMP:20210121T215105Z
UID:96132d07-43a2-4f4d-a0fa-c565952dba3c
DTSTART;VALUE=DATE:20200923
DESCRIPTION:Property ID# 489124\, Locatoin: Ray White Johnsonville\, 20 Moo
 refield Road\, Time: 3:00PM
SUMMARY:Auction for 
END:VEVENT
END:VCALENDAR
