BEGIN:VCALENDAR
VERSION:2.0
PRODID:icalendar-ruby
CALSCALE:GREGORIAN
BEGIN:VEVENT
DTSTAMP:20260424T120701Z
UID:6bbd23a6-8082-4519-843e-528e18c58a4f
DTSTART;VALUE=DATE:20200916
DESCRIPTION:Property ID# 489169\, Time: 1:00PM
SUMMARY:Auction for 
END:VEVENT
END:VCALENDAR
