BEGIN:VCALENDAR
VERSION:2.0
PRODID:icalendar-ruby
CALSCALE:GREGORIAN
BEGIN:VEVENT
DTSTAMP:20210121T215104Z
UID:05b8da2b-3da6-4920-abed-7b5bbcc305fe
DTSTART;VALUE=DATE:20201008
DESCRIPTION:Property ID# 490683\, Time: 1:00PM
SUMMARY:Auction for 
END:VEVENT
END:VCALENDAR
