BEGIN:VCALENDAR
VERSION:2.0
PRODID:icalendar-ruby
CALSCALE:GREGORIAN
BEGIN:VEVENT
DTSTAMP:20210121T215218Z
UID:f8efdfc7-9666-4137-8076-9595fbe23640
DTSTART;VALUE=DATE:20201007
DESCRIPTION:Property ID# 490700\, Locatoin: Ray White office 31 Main Street
 \, Upper Hutt\, Time: 12:00PM
SUMMARY:Auction for 
END:VEVENT
END:VCALENDAR
