BEGIN:VCALENDAR
VERSION:2.0
PRODID:icalendar-ruby
CALSCALE:GREGORIAN
BEGIN:VEVENT
DTSTAMP:20210121T215102Z
UID:bb62e0a0-e745-4959-93ea-6ae3cad34bb8
DTSTART;VALUE=DATE:20201022
DESCRIPTION:Property ID# 491460\, Locatoin: Ray White Johnsonville\, Time: 
 1:00PM
SUMMARY:Auction for 
END:VEVENT
END:VCALENDAR
