BEGIN:VCALENDAR
VERSION:2.0
PRODID:icalendar-ruby
CALSCALE:GREGORIAN
BEGIN:VEVENT
DTSTAMP:20210121T215041Z
UID:495270e9-20b3-49bc-92b0-afabcf34e717
DTSTART;VALUE=DATE:20201105
DESCRIPTION:Property ID# 492866\, Locatoin: 8 Kent Terrace\, Wellington \, 
 Time: 2:00PM
SUMMARY:Auction for 
END:VEVENT
END:VCALENDAR
