BEGIN:VCALENDAR
VERSION:2.0
PRODID:icalendar-ruby
CALSCALE:GREGORIAN
BEGIN:VEVENT
DTSTAMP:20210121T215101Z
UID:38c4dcf3-bd5a-49e0-8c74-2a97268337dd
DTSTART;VALUE=DATE:20201029
DESCRIPTION:Property ID# 492879\, Locatoin: Ray White Johnsonville\, 20 Moo
 refield Road\, Time: 1:00PM
SUMMARY:Auction for 
END:VEVENT
END:VCALENDAR
