BEGIN:VCALENDAR
VERSION:2.0
PRODID:icalendar-ruby
CALSCALE:GREGORIAN
BEGIN:VEVENT
DTSTAMP:20210121T215217Z
UID:488fe769-b728-4e12-a90f-cbc27a4dafc9
DTSTART;VALUE=DATE:20201104
DESCRIPTION:Property ID# 493406\, Locatoin: 31 Main Street\, Upper Hutt - R
 ay White Office\, Time: 12:00PM
SUMMARY:Auction for 
END:VEVENT
END:VCALENDAR
