BEGIN:VCALENDAR
VERSION:2.0
PRODID:icalendar-ruby
CALSCALE:GREGORIAN
BEGIN:VEVENT
DTSTAMP:20210121T215040Z
UID:ab4c526a-c82b-4663-baff-241bda734411
DTSTART;VALUE=DATE:20201119
DESCRIPTION:Property ID# 494136\, Locatoin: Lowe & Realty\, 8 Kent Terrace\
 , Wellington \, Time: 11:00AM
SUMMARY:Auction for 
END:VEVENT
END:VCALENDAR
