BEGIN:VCALENDAR
VERSION:2.0
PRODID:icalendar-ruby
CALSCALE:GREGORIAN
BEGIN:VEVENT
DTSTAMP:20210121T215151Z
UID:a2dd389e-076d-4fe4-b832-f99e542fa8f7
DTSTART;VALUE=DATE:20201210
DESCRIPTION:Property ID# 495395\, Locatoin: 149 Johnsonville Raod\, Johnson
 ville\, Wellington 6037\, Time: 1:00PM
SUMMARY:Auction for 
END:VEVENT
END:VCALENDAR
