BEGIN:VCALENDAR
VERSION:2.0
PRODID:icalendar-ruby
CALSCALE:GREGORIAN
BEGIN:VEVENT
DTSTAMP:20210121T214247Z
UID:7dab99e2-1c68-4807-93e0-3afe4c754e4d
DTSTART;VALUE=DATE:20201209
DESCRIPTION:Property ID# 496076\, Time: 1:00PM
SUMMARY:Auction for 19 Diane Grove
END:VEVENT
END:VCALENDAR
