BEGIN:VCALENDAR
VERSION:2.0
PRODID:icalendar-ruby
CALSCALE:GREGORIAN
BEGIN:VEVENT
DTSTAMP:20210121T215145Z
UID:d21b2026-a7ae-4e5f-803f-94356a01a5c9
DTSTART;VALUE=DATE:20201216
DESCRIPTION:Property ID# 496261\, Locatoin: 149 Johnsonville Raod\, Johnson
 ville\, Wellington 6037\, Time: 1:00PM
SUMMARY:Auction for 
END:VEVENT
END:VCALENDAR
