BEGIN:VCALENDAR
VERSION:2.0
PRODID:icalendar-ruby
CALSCALE:GREGORIAN
BEGIN:VEVENT
DTSTAMP:20210121T215129Z
UID:2f2eb3d8-b3f1-4b02-96f5-89db98681c8f
DTSTART;VALUE=DATE:20201209
DESCRIPTION:Property ID# 497077\, Time: 12:00PM
SUMMARY:Auction for 
END:VEVENT
END:VCALENDAR
