BEGIN:VCALENDAR
VERSION:2.0
PRODID:icalendar-ruby
CALSCALE:GREGORIAN
BEGIN:VEVENT
DTSTAMP:20210121T215058Z
UID:c909f388-958b-4c65-95bb-52085ac7c8fd
DTSTART;VALUE=DATE:20201217
DESCRIPTION:Property ID# 497665\, Time: 1:00PM
SUMMARY:Auction for 
END:VEVENT
END:VCALENDAR
