BEGIN:VCALENDAR
VERSION:2.0
PRODID:icalendar-ruby
CALSCALE:GREGORIAN
BEGIN:VEVENT
DTSTAMP:20210121T214243Z
UID:5aca34ec-d395-4412-b052-666f3f1cba8d
DTSTART;VALUE=DATE:20201218
DESCRIPTION:Property ID# 497901\, Time: 3:00PM
SUMMARY:Auction for 12 Ohariu Road
END:VEVENT
END:VCALENDAR
