BEGIN:VCALENDAR
VERSION:2.0
PRODID:icalendar-ruby
CALSCALE:GREGORIAN
BEGIN:VEVENT
DTSTAMP:20210121T214210Z
UID:4cc443f0-05be-47a7-87a4-ff9f84659658
DTSTART;VALUE=DATE:20210203
DESCRIPTION:Property ID# 499037\, Locatoin: Level1\, 77 Thorndon Quay\, Pip
 itea\, Time: 1:00PM
SUMMARY:Auction for 4 Cyril Way
END:VEVENT
END:VCALENDAR
