BEGIN:VCALENDAR
VERSION:2.0
PRODID:icalendar-ruby
CALSCALE:GREGORIAN
BEGIN:VEVENT
DTSTAMP:20210121T214227Z
UID:86c8acb1-77da-4e65-8579-1ccec97f2227
DTSTART;VALUE=DATE:20210127
DESCRIPTION:Property ID# 499449\, Time: 12:00PM
SUMMARY:Auction for 3 Hawtrey Tce
END:VEVENT
END:VCALENDAR
