BEGIN:VCALENDAR
VERSION:2.0
PRODID:icalendar-ruby
CALSCALE:GREGORIAN
BEGIN:VEVENT
DTSTAMP:20210121T214236Z
UID:4f167768-675d-4aad-8a88-3323a7a1f325
DTSTART;VALUE=DATE:20210204
DESCRIPTION:Property ID# 499618\, Locatoin: 149 Johnsonville Road\, Johnson
 ville\, Time: 1:00PM
SUMMARY:Auction for 57a Cortina Avenue
END:VEVENT
END:VCALENDAR
