BEGIN:VCALENDAR
VERSION:2.0
PRODID:icalendar-ruby
CALSCALE:GREGORIAN
BEGIN:VEVENT
DTSTAMP:20210121T215141Z
UID:58727e17-e3c3-4364-96c1-fb348f9c4292
DTSTART;VALUE=DATE:20210211
DESCRIPTION:Property ID# 499619\, Locatoin: 149 Johnsonville Road\, Johnson
 ville\, Time: 1:00PM
SUMMARY:Auction for 1B Romney Square
END:VEVENT
END:VCALENDAR
