BEGIN:VCALENDAR
VERSION:2.0
PRODID:icalendar-ruby
CALSCALE:GREGORIAN
BEGIN:VEVENT
DTSTAMP:20210121T215057Z
UID:7c491d61-ee0c-47b8-8c93-193f304535f7
DTSTART;VALUE=DATE:20210128
DESCRIPTION:Property ID# 499710\, Locatoin: Ray White Johnsonville\, Time: 
 1:00PM
SUMMARY:Auction for 30 Duval Grove
END:VEVENT
END:VCALENDAR
