BEGIN:VCALENDAR
VERSION:2.0
PRODID:icalendar-ruby
CALSCALE:GREGORIAN
BEGIN:VEVENT
DTSTAMP:20210121T214217Z
UID:c54190cb-a2dd-4f41-8b3b-f9030413cbe3
DTSTART;VALUE=DATE:20210128
DESCRIPTION:Property ID# 499711\, Locatoin: Ray White Johnsonville\, 20 Moo
 refield Road\, Time: 12:00PM
SUMMARY:Auction for a/25 Omega Street
END:VEVENT
END:VCALENDAR
