BEGIN:VCALENDAR
VERSION:2.0
PRODID:icalendar-ruby
CALSCALE:GREGORIAN
BEGIN:VEVENT
DTSTAMP:20210121T214202Z
UID:4f71efba-04fa-4732-88eb-1ebcc42804c4
DTSTART;VALUE=DATE:20210211
DESCRIPTION:Property ID# 499835\, Locatoin: Collective First National\, 20 
 Johnsonville Road\, Johnsonville\, Time: 1:00PM
SUMMARY:Auction for 1/16 Black Rock Road
END:VEVENT
END:VCALENDAR
