BEGIN:VCALENDAR
VERSION:2.0
PRODID:icalendar-ruby
CALSCALE:GREGORIAN
BEGIN:VEVENT
DTSTAMP:20210121T214233Z
UID:51512c76-3056-4f2f-b1ab-05b4c3cfb7b2
DTSTART;TZID=Pacific/Auckland:20210124T120000
DTEND;TZID=Pacific/Auckland:20210124T123000
DESCRIPTION:Property ID# 499618
SUMMARY:Openhome for 57a Cortina Avenue
END:VEVENT
END:VCALENDAR
