BEGIN:VCALENDAR
VERSION:2.0
PRODID:icalendar-ruby
CALSCALE:GREGORIAN
BEGIN:VEVENT
DTSTAMP:20210121T214214Z
UID:9de22bde-706b-4a7c-a7d9-de4192b2cc52
DTSTART;TZID=Pacific/Auckland:20210121T180000
DTEND;TZID=Pacific/Auckland:20210121T183000
DESCRIPTION:Property ID# 499711
SUMMARY:Openhome for a/25 Omega Street
END:VEVENT
END:VCALENDAR
