BEGIN:VCALENDAR
VERSION:2.0
PRODID:icalendar-ruby
CALSCALE:GREGORIAN
BEGIN:VEVENT
DTSTAMP:20210121T215054Z
UID:3a27952e-5f0d-45b8-a8b7-7b7b27ca0c45
DTSTART;TZID=Pacific/Auckland:20210120T180000
DTEND;TZID=Pacific/Auckland:20210120T183000
DESCRIPTION:Property ID# 499710
SUMMARY:Openhome for 30 Duval Grove
END:VEVENT
END:VCALENDAR
