BEGIN:VCALENDAR
VERSION:2.0
PRODID:icalendar-ruby
CALSCALE:GREGORIAN
BEGIN:VEVENT
DTSTAMP:20210121T215117Z
UID:65d25d0d-9396-4bb9-a129-a847c4eeae0a
DTSTART;TZID=Pacific/Auckland:20210124T123000
DTEND;TZID=Pacific/Auckland:20210124T130000
DESCRIPTION:Property ID# 499708
SUMMARY:Openhome for 7B Gurney Road
END:VEVENT
END:VCALENDAR
