BEGIN:VCALENDAR
VERSION:2.0
PRODID:icalendar-ruby
CALSCALE:GREGORIAN
BEGIN:VEVENT
DTSTAMP:20210121T214222Z
UID:cccc6222-e9d5-43bc-9886-eb860020a371
DTSTART;TZID=Pacific/Auckland:20210124T113000
DTEND;TZID=Pacific/Auckland:20210124T120000
DESCRIPTION:Property ID# 499712
SUMMARY:Openhome for 65 Chapman Street
END:VEVENT
END:VCALENDAR
