BEGIN:VCALENDAR
VERSION:2.0
PRODID:icalendar-ruby
CALSCALE:GREGORIAN
BEGIN:VEVENT
DTSTAMP:20210121T214201Z
UID:d8e336c9-50a9-4338-949b-855eedd03ea1
DTSTART;TZID=Pacific/Auckland:20210124T123000
DTEND;TZID=Pacific/Auckland:20210124T131500
DESCRIPTION:Property ID# 499835
SUMMARY:Openhome for 1/16 Black Rock Road
END:VEVENT
END:VCALENDAR
