BEGIN:VCALENDAR
VERSION:2.0
PRODID:icalendar-ruby
CALSCALE:GREGORIAN
BEGIN:VEVENT
DTSTAMP:20210121T215138Z
UID:40aebd58-3f42-4904-8571-678641d8a177
DTSTART;TZID=Pacific/Auckland:20210124T140000
DTEND;TZID=Pacific/Auckland:20210124T143000
DESCRIPTION:Property ID# 499619
SUMMARY:Openhome for 1B Romney Square
END:VEVENT
END:VCALENDAR
